Workbook

Sheet Podporni
A1: 1. A DRŽAVNA MOŠKA ROKOMETNA LIGA - ČLANI | C1: Ajdovščina | E1: Kontrola na tekmi | G1: BACKOVIČ Ozren – PALAČKOVIČ Mirko | I1: X | K1: KAUČIČ Ivan | M1: RK CELJE PIVOVARNA LAŠKO
A2: 1. B DRŽAVNA ROKOMETNA LIGA - ČLANI | C2: Brežice | E2: Video kontrola | G2: CANKAR Bojan – CESTNIK Matic | K2: KRAŠNA Robert | M2: RK AJDOVŠČINA
A3: 2. DRŽAVNA LIGA - ČLANI | C3: Celje | G3: ČRETNIK Dejan – TURNŠEK Miloš | K3: PIRC Branko | M3: RK ČRNOMELJ
A4: SUPER POKAL - ČLANI | C4: Cerklje Na Gorenjskem | G4: DERŽEK Dušan – LESAR Franc | K4: PIRC Iztok | M4: RK DOBOVA
A5: 1. A DRŽAVNA ROKOMETNA LIGA - ŽENSKE - ČLANICE | C5: Col | G5: GORENC Aleš – KOŠIR Silvo | K5: POŽEŽNIK Janko | M5: RK DOL TKI HRASTNIK
A6: 1. B DRŽAVNA ROKOMETNA LIGA - ŽENSKE - ČLANICE | C6: Črnomelj | G6: HOTKO Izidor – MIKLAVČIČ Tomaž | K6: STREL Janko | M6: RK DRAVA PTUJ
A7: 1. DRŽAVNA LIGA - MLADINCI | C7: Dobova | G7: IVANČIČ Dejan – IVANČIČ Igor | K7: BACKOVIČ Ozren | M7: RD BUTAN PLIN IZOLA
A8: 2. DRŽAVNA LIGA - CENTER - MLADINCI | C8: Dobravlje | G8: KASTELIC David – MURČEHAJIČ Mihael | K8: KAVALAR Brstin | M8: ROKOMETNI KLUB GROSUPLJE
A9: 2. DRŽAVNA LIGA - VZHOD - MLADINCI | C9: Dornberk | G9: KAVALAR Brstin – ŽITNIK Boštjan | K9: LAH Bojan | M9: RD RIKO RIBNICA
A10: 2. DRŽAVNA LIGA - ZAHOD - MLADINCI | C10: Gorišnica | G10: KIKEL Rok – ZUPAN Rok | K10: PALAČKOVIČ Mirko | M10: ROKOMETNI KLUB KRŠKO
C11: Gornja Radgona | G11: KNEZ Matija – SMOLKO Mitja | K11: SOK David | M11: ŠD MOKERC - KIG
C12: Graz | G12: KNEZ Vili – NAHTIGAL Uroš | K12: TERŠEK Miran | M12: RK JERUZALEM ORMOŽ
C13: Grosuplje | G13: KRŽAN Tomaž – ROMIH Matic | K13: ŽIBRET Aljoša | M13: RK SEVNICA
C14: Hrastnik | G14: LAH Bojan – SOK David | M14: RD ALPLES ŽELEZNIKI
C15: Ig | G15: MARINKOVIČ Leon – VIDALI Žiga | M15: RK SVIŠ IVANČNA GORICA
C16: Ilirska Bistrica | G16: OCVIRK Drago – ŠTRIGL Miran | M16: RK POMURJE
C17: Ivančna Gorica | G17: PIRC Marko – PIRC Matjaž | M17: RK KOČEVJE
C18: Izola | G18: PUKŠIČ Žan – SATLER Miha | M18: RK ARCONT RADGONA
C19: Kočevje | G19: ŠKVARČ Rok – HUMEK Jože | M19: RD LL GROSIST SLOVAN
C20: Koper | G20: TERŠEK Miran – ŽIBRET Aljoša | M20: ŠRD ŠKOFLJICA
C21: Kozina | G21: BREGAR Tamara – BULJUBAŠIĆ Adnan | M21: RK GORENJE VELENJE
C22: Kranj | G22: BURIČ Žiga – LOVRIČ Anton | M22: RK TRIMO TREBNJE
C23: Kranjska Gora | G23: COLNER Dejan – ŠEBEK Luka | M23: RD HERZ ŠMARTNO
C24: Krško | G24: FINK Blaž – KLEMENČIČ Niko | M24: RK CERKLJE
C25: Laško | G25: GORIŠEK Roman – MIKLAVČIČ Miha | M25: RD MOŠKANJCI-GORIŠNICA
... C33: Mozirje | G33: VIRANT Tilen – VIRANT Tom | M33: RD URBANSCAPE LOKA
C34: Murska Sobota | M34: RD KOPER
C35: Naklo | M35: MOŠKI ROKOMETNI KLUB NG
C36: Nazarje | M36: MRK LJUBLJANA
C37: Nova Gorica | M37: ŽRK TRGO ABC IZOLA
C38: Novo Mesto | M38: ŽRK KRKA NOVO MESTO
C39: Ormož | M39: RK KRIM MERCATOR
C40: Portorož | M40: ŽRK ŽIHER HIŠE PTUJ - ORMOŽ
C41: Ptuj | M41: RK OLIMPIJA
C42: Rače | M42: RK SAVA KRANJ
C43: Radeče | M43: ŽRK VELENJE
C44: Radenci | M44: ŽRK Z'DEŽELE
C45: Radovljica | M45: Ž.U.R.D. KOPER
... C58: Šoštanj | M58: RŽK ZAGORJE
C59: Štore
...

Sheet Ocena sojenja - Sodniški par
A1: ROKOMETNA ZVEZA SLOVENIJE
A3: Ocenjevalni obrazec - SODNIŠKI PAR
A4: Tekmovanje | M4: Št. Kroga | Y4: Izberi tekmovanje s klikom na celico
Y5: Vnesi številko kroga
Y7: Izberi sodniški par s klikom na celico
Y9: Vnesi datum v obliki DD/MM/YYYY
Y10: Izberi Kraj s klikom na celico
Y11: Izberi Ekipo A in B s klikom na celico
A15: Ocena sojenja - pregled po področjih | AM15: Težavnost tekme
A16: TEŽAVNOST TEKME | B16: Lahka | D16: Normalna | G16: Težka | N16: Zelo težka | Y16: Izberi samo 1 možnost s klikom v okvirček! | AN16: Pogoj na checkbox
A17: VPLIV SOJENJA NA TEŽAVNOST | B17: Povečevanje težavnosti | G17: Brez vpliva | O17: Zmanjševanje težavnosti | Y17: Izberi samo 1 možnost s klikom v okvirček! | AM17: Lahka | AN17: FALSE | AO17: =+IF(AN17=TRUE, 0,0) -> 0
A18: Odločitve | B18: -- | C18: - | D18: Ø | E18: + | F18: ++ | G18: KOMENTAR | AM18: Normalna | AN18: FALSE | AO18: =+IF(AN18=TRUE, 0,0) -> 0
A19: PREDNOST | G19: I | Y19: Izberi samo 1 možnost in sicer tako, da vpišeš X v izbrano vrednost! Obvezno izpolniti vse segmente odločitev! | AM19: Težka | AN19: FALSE | AO19: =+IF(AN19=TRUE, 1,0) -> 0
A20: KORAKI | Y20: Vpiši komentar s pozitivnimi pripombami | AM20: Zelo težka | AN20: FALSE | AO20: =+IF(AN20=TRUE, 2,0) -> 0
A21: PREKRŠEK V NAPADU | Y21: Vpiši črko X v željeno polje! | AN21: Tez_score | AO21: =+SUM(AO17:AO20) -> 0
A22: 7m | Y22: Vpiši črko X v željeno polje!
A23: PASIVNA IGRA | Y23: Vpiši črko X v željeno polje!
A24: VRATARJEV PROSTOR (obramba/napad) | Y24: Vpiši komentar z negativnimi pripombami | AM24: Vpliv sojenja na težavnost | AN24: Pogoj na checkbox
A25: IGRA PIVOTA (obramba/napad) | Y25: Vpiši komentar z negativnimi pripombami | AM25: Povečanje težavnosti | AN25: FALSE | AO25: =+IF(AN25=TRUE, -2,0) -> 0
A26: PROGRESIVNO KAZNOVANJE | Y26: Vpiši črko X v željeno polje! | AM26: Brez vpliva | AN26: FALSE | AO26: =+IF(AN26=TRUE, 0,0) -> 0
A27: VEDENJE/OBNAŠANJE (govorica telesa in signalizacija; gibanje/sodelovanje med sodnikoma in z zapisnikarsko mizo) | Y27: Vpiši črko X v željeno polje! | AM27: Zmanjševanje težavnosti | AN27: FALSE | AO27: =+IF(AN27=TRUE, 2,0) -> 0
A28: SPLOŠNI VTIS (management tekme; razumevanje igre; odnos in atmosfera; nevtralnost) | Y28: Vpiši črko X v željeno polje! | AN28: Soj_Score | AO28: =+SUM(AO25:AO27) -> 0
Y31: Vpiši komentar z Priporočili za izboljšanje | AM31: Odločitve
AM32: PREDNOST | AO32: =+IF('Ocena sojenja - Sodniški par'!$B$19="x",1,IF('Ocena sojenja - Sodniški par'!$C$19="x",2,IF('Ocena sojenja - Sodniški par'!$D$19="x",5,IF('Ocena sojenja - Sodniški par'!$E$19="x",7,IF('Ocena sojenja - Sodniški par'!$F$19="x",9,"")))))
AM33: KORAKI | AO33: =+IF('Ocena sojenja - Sodniški par'!$B$20="x",1,IF('Ocena sojenja - Sodniški par'!$C$20="x",2,IF('Ocena sojenja - Sodniški par'!$D$20="x",5,IF('Ocena sojenja - Sodniški par'!$E$20="x",7,IF('Ocena sojenja - Sodniški par'!$F$20="x",9,"")))))
AM34: PREKRŠEK V NAPADU | AO34: =+IF('Ocena sojenja - Sodniški par'!$B$21="x",1,IF('Ocena sojenja - Sodniški par'!$C$21="x",2,IF('Ocena sojenja - Sodniški par'!$D$21="x",5,IF('Ocena sojenja - Sodniški par'!$E$21="x",7,IF('Ocena sojenja - Sodniški par'!$F$21="x",9,"")))))
AM35: 7m | AO35: =+IF('Ocena sojenja - Sodniški par'!$B$22="x",1,IF('Ocena sojenja - Sodniški par'!$C$22="x",2,IF('Ocena sojenja - Sodniški par'!$D$22="x",5,IF('Ocena sojenja - Sodniški par'!$E$22="x",7,IF('Ocena sojenja - Sodniški par'!$F$22="x",9,"")))))
AM36: PASIVNA IGRA | AO36: =+IF('Ocena sojenja - Sodniški par'!$B$23="x",1,IF('Ocena sojenja - Sodniški par'!$C$23="x",2,IF('Ocena sojenja - Sodniški par'!$D$23="x",5,IF('Ocena sojenja - Sodniški par'!$E$23="x",7,IF('Ocena sojenja - Sodniški par'!$F$23="x",9,"")))))
AM37: VRATARJEV PROSTOR (obramba/napad) | AO37: =+IF('Ocena sojenja - Sodniški par'!$B$24="x",1,IF('Ocena sojenja - Sodniški par'!$C$24="x",2,IF('Ocena sojenja - Sodniški par'!$D$24="x",5,IF('Ocena sojenja - Sodniški par'!$E$24="x",7,IF('Ocena sojenja - Sodniški par'!$F$24="x",9,"")))))
AM38: IGRA PIVOTA (obramba/napad) | AO38: =+IF('Ocena sojenja - Sodniški par'!$B$25="x",1,IF('Ocena sojenja - Sodniški par'!$C$25="x",2,IF('Ocena sojenja - Sodniški par'!$D$25="x",5,IF('Ocena sojenja - Sodniški par'!$E$25="x",7,IF('Ocena sojenja - Sodniški par'!$F$25="x",9,"")))))
AM39: PROGRESIVNO KAZNOVANJE | AO39: =+IF('Ocena sojenja - Sodniški par'!$B$26="x",1,IF('Ocena sojenja - Sodniški par'!$C$26="x",2,IF('Ocena sojenja - Sodniški par'!$D$26="x",5,IF('Ocena sojenja - Sodniški par'!$E$26="x",7,IF('Ocena sojenja - Sodniški par'!$F$26="x",9,"")))))
AM40: VEDENJE/OBNAŠANJE (govorica telesa in signalizacija; gibanje/sodelovanje med sodnikoma in z zapisnikarsko mizo) | AO40: =+IF('Ocena sojenja - Sodniški par'!$B$27="x",1,IF('Ocena sojenja - Sodniški par'!$C$27="x",3,IF('Ocena sojenja - Sodniški par'!$D$27="x",8,IF('Ocena sojenja - Sodniški par'!$E$27="x",12,IF('Ocena sojenja - Sodniški par'!$F$27="x",14,"")))))
AM41: SPLOŠNI VTIS (management tekme; razumevanje igre; odnos in atmosfera; nevtralnost) | AO41: =+IF('Ocena sojenja - Sodniški par'!$B$28="x",1,IF('Ocena sojenja - Sodniški par'!$C$28="x",3,IF('Ocena sojenja - Sodniški par'!$D$28="x",8,IF('Ocena sojenja - Sodniški par'!$E$28="x",12,IF('Ocena sojenja - Sodniški par'!$F$28="x",14,"")))))
A42: Skupna ocena - Sodniški par: | B42: =+SUM($AO$21,$AO$28,$AO$42) -> 0 | AN42: Odlocitve_score | AO42: =+SUM(AO32:AO41) -> 0
